BEGIN:VCALENDAR
VERSION:2.0
PRODID:-//The White Hart Inn, Nettleham - ECPv6.15.20//NONSGML v1.0//EN
CALSCALE:GREGORIAN
METHOD:PUBLISH
X-WR-CALNAME:The White Hart Inn, Nettleham
X-ORIGINAL-URL:https://whitehart-nettleham.co.uk
X-WR-CALDESC:Events for The White Hart Inn, Nettleham
REFRESH-INTERVAL;VALUE=DURATION:PT1H
X-Robots-Tag:noindex
X-PUBLISHED-TTL:PT1H
BEGIN:VTIMEZONE
TZID:Europe/London
BEGIN:DAYLIGHT
TZOFFSETFROM:+0000
TZOFFSETTO:+0100
TZNAME:BST
DTSTART:20250330T010000
END:DAYLIGHT
BEGIN:STANDARD
TZOFFSETFROM:+0100
TZOFFSETTO:+0000
TZNAME:GMT
DTSTART:20251026T010000
END:STANDARD
BEGIN:DAYLIGHT
TZOFFSETFROM:+0000
TZOFFSETTO:+0100
TZNAME:BST
DTSTART:20260329T010000
END:DAYLIGHT
BEGIN:STANDARD
TZOFFSETFROM:+0100
TZOFFSETTO:+0000
TZNAME:GMT
DTSTART:20261025T010000
END:STANDARD
BEGIN:DAYLIGHT
TZOFFSETFROM:+0000
TZOFFSETTO:+0100
TZNAME:BST
DTSTART:20270328T010000
END:DAYLIGHT
BEGIN:STANDARD
TZOFFSETFROM:+0100
TZOFFSETTO:+0000
TZNAME:GMT
DTSTART:20271031T010000
END:STANDARD
END:VTIMEZONE
BEGIN:VEVENT
DTSTART;TZID=Europe/London:20260423T193000
DTEND;TZID=Europe/London:20260423T213000
DTSTAMP:20260423T023505
CREATED:20260414T195118Z
LAST-MODIFIED:20260419T193509Z
UID:3396-1776972600-1776979800@whitehart-nettleham.co.uk
SUMMARY:Live Music - Some People
DESCRIPTION:🎶 Live Music at The White Hart: Some People 🎶\nJoin us at The White Hart for a fantastic evening of live music with Some People! \nBringing a lively mix of well-loved hits and feel-good tunes\, Some People are sure to get you singing along and tapping your feet. Whether you’re planning a relaxed drink with friends or a full night out\, this promises to be a great atmosphere for everyone. \nEnjoy great music\, delicious food\, and your favourite drinks in the heart of the village.
URL:https://whitehart-nettleham.co.uk/event/live-music-some-people/
LOCATION:The White Hart Inn\, 14 High Street\, Nettleham\, Lincoln\, LN2 2PG\, United Kingdom
CATEGORIES:Featured,Live Music
ATTACH;FMTTYPE=image/png:https://whitehart-nettleham.co.uk/wp-content/uploads/2026/04/Facebook-Some-People.png
ORGANIZER;CN="The White Hart%2C Nettleham":MAILTO:contact@whitehart-nettleham.co.uk
END:VEVENT
END:VCALENDAR