BEGIN:VCALENDAR
VERSION:2.0
PRODID:-//The White Hart Inn, Nettleham - ECPv6.15.20//NONSGML v1.0//EN
CALSCALE:GREGORIAN
METHOD:PUBLISH
X-ORIGINAL-URL:https://whitehart-nettleham.co.uk
X-WR-CALDESC:Events for The White Hart Inn, Nettleham
REFRESH-INTERVAL;VALUE=DURATION:PT1H
X-Robots-Tag:noindex
X-PUBLISHED-TTL:PT1H
BEGIN:VTIMEZONE
TZID:Europe/London
BEGIN:DAYLIGHT
TZOFFSETFROM:+0000
TZOFFSETTO:+0100
TZNAME:BST
DTSTART:20250330T010000
END:DAYLIGHT
BEGIN:STANDARD
TZOFFSETFROM:+0100
TZOFFSETTO:+0000
TZNAME:GMT
DTSTART:20251026T010000
END:STANDARD
BEGIN:DAYLIGHT
TZOFFSETFROM:+0000
TZOFFSETTO:+0100
TZNAME:BST
DTSTART:20260329T010000
END:DAYLIGHT
BEGIN:STANDARD
TZOFFSETFROM:+0100
TZOFFSETTO:+0000
TZNAME:GMT
DTSTART:20261025T010000
END:STANDARD
BEGIN:DAYLIGHT
TZOFFSETFROM:+0000
TZOFFSETTO:+0100
TZNAME:BST
DTSTART:20270328T010000
END:DAYLIGHT
BEGIN:STANDARD
TZOFFSETFROM:+0100
TZOFFSETTO:+0000
TZNAME:GMT
DTSTART:20271031T010000
END:STANDARD
END:VTIMEZONE
BEGIN:VEVENT
DTSTART;TZID=Europe/London:20260513T193000
DTEND;TZID=Europe/London:20260513T230000
DTSTAMP:20260420T164242
CREATED:20260419T194028Z
LAST-MODIFIED:20260419T194028Z
UID:3438-1778700600-1778713200@whitehart-nettleham.co.uk
SUMMARY:Bingo Night
DESCRIPTION:🎉 BINGO NIGHT AT THE WHITE HART 🎉 \nEyes down… and no cheating 👀 \nThink bingo’s boring? Think again. This is bingo with drinks\, laughs\, and just enough competitiveness to ruin friendships (briefly). \nCash prizes up for grabs\, questionable tactics encouraged\, and absolutely no skill required. \nAnd the best bit? It’s a regular thing — every other Wednesday. \n📅 Wednesday 13th May\n🕢 From 7:30pm\n📍 The White Hart\, Nettleham \nWill this be your lucky night? 🍀 \nCome for a quiet game… leave shouting “HOUSE!” louder than you expected.
URL:https://whitehart-nettleham.co.uk/event/bingo-night/
LOCATION:The White Hart Inn\, 14 High Street\, Nettleham\, Lincoln\, LN2 2PG\, United Kingdom
CATEGORIES:Bingo,Featured
ATTACH;FMTTYPE=image/png:https://whitehart-nettleham.co.uk/wp-content/uploads/2026/04/Bingo-Night-2026-05-13.png
ORGANIZER;CN="The White Hart%2C Nettleham":MAILTO:contact@whitehart-nettleham.co.uk
END:VEVENT
BEGIN:VEVENT
DTSTART;TZID=Europe/London:20260527T193000
DTEND;TZID=Europe/London:20260527T230000
DTSTAMP:20260420T164242
CREATED:20260419T205314Z
LAST-MODIFIED:20260419T205314Z
UID:3441-1779910200-1779922800@whitehart-nettleham.co.uk
SUMMARY:Bingo Night
DESCRIPTION: BINGO NIGHT AT THE WHITE HART \nEyes down… and no cheating \n\nThink bingo’s boring? Think again. This is bingo with drinks\, laughs\, and just enough competitiveness to ruin friendships (briefly).\n\nCash prizes up for grabs\, questionable tactics encouraged\, and absolutely no skill required.\n\nAnd the best bit? It’s going to be a regular thing — every other Wednesday.\n\n Wednesday 27th May From 7:30pm The White Hart\, Nettleham\n\nCome for a quiet game… leave shouting “HOUSE!” louder than you expected.
URL:https://whitehart-nettleham.co.uk/event/bingo-night-2/
LOCATION:The White Hart Inn\, 14 High Street\, Nettleham\, Lincoln\, LN2 2PG\, United Kingdom
CATEGORIES:Bingo,Featured
ATTACH;FMTTYPE=image/png:https://whitehart-nettleham.co.uk/wp-content/uploads/2026/04/Bingo-Night-2026-05-27.png
ORGANIZER;CN="The White Hart%2C Nettleham":MAILTO:contact@whitehart-nettleham.co.uk
END:VEVENT
END:VCALENDAR