BEGIN:VCALENDAR
VERSION:2.0
PRODID:-//The White Hart Inn, Nettleham - ECPv6.15.20//NONSGML v1.0//EN
CALSCALE:GREGORIAN
METHOD:PUBLISH
X-WR-CALNAME:The White Hart Inn, Nettleham
X-ORIGINAL-URL:https://whitehart-nettleham.co.uk
X-WR-CALDESC:Events for The White Hart Inn, Nettleham
REFRESH-INTERVAL;VALUE=DURATION:PT1H
X-Robots-Tag:noindex
X-PUBLISHED-TTL:PT1H
BEGIN:VTIMEZONE
TZID:Europe/London
BEGIN:DAYLIGHT
TZOFFSETFROM:+0000
TZOFFSETTO:+0100
TZNAME:BST
DTSTART:20250330T010000
END:DAYLIGHT
BEGIN:STANDARD
TZOFFSETFROM:+0100
TZOFFSETTO:+0000
TZNAME:GMT
DTSTART:20251026T010000
END:STANDARD
BEGIN:DAYLIGHT
TZOFFSETFROM:+0000
TZOFFSETTO:+0100
TZNAME:BST
DTSTART:20260329T010000
END:DAYLIGHT
BEGIN:STANDARD
TZOFFSETFROM:+0100
TZOFFSETTO:+0000
TZNAME:GMT
DTSTART:20261025T010000
END:STANDARD
BEGIN:DAYLIGHT
TZOFFSETFROM:+0000
TZOFFSETTO:+0100
TZNAME:BST
DTSTART:20270328T010000
END:DAYLIGHT
BEGIN:STANDARD
TZOFFSETFROM:+0100
TZOFFSETTO:+0000
TZNAME:GMT
DTSTART:20271031T010000
END:STANDARD
END:VTIMEZONE
BEGIN:VEVENT
DTSTART;TZID=Europe/London:20260524T193000
DTEND;TZID=Europe/London:20260524T230000
DTSTAMP:20260420T151750
CREATED:20260419T184759Z
LAST-MODIFIED:20260419T185141Z
UID:3425-1779651000-1779663600@whitehart-nettleham.co.uk
SUMMARY:Disco Karaoke Night
DESCRIPTION: DISCO KARAOKE NIGHT \n\nIt’s officially a regular thing…\n\nIt’s so popular\, we’re bringing Disco Karaoke Night back for the Bank Holiday weekend — and this time it’s here to stay.\n\nJoin us on Sunday 24th May at The White Hart\, Nettleham for a night of disco classics\, big singalongs\, and questionable dance moves.\n\n Sing your heart out Dance like no one’s watching (they are) Enjoy great drinks and a proper atmosphere\nWhether you’re a karaoke superstar or just here for the laughs\, everyone’s welcome.\n\n Sunday 24th May (Bank Holiday Weekend) The White Hart\, Nettleham\n\nSame chaos. Same tunes. Now a regular fixture.
URL:https://whitehart-nettleham.co.uk/event/disco-karaoke-night-2/
LOCATION:The White Hart Inn\, 14 High Street\, Nettleham\, Lincoln\, LN2 2PG\, United Kingdom
CATEGORIES:Featured,Karaoke
ATTACH;FMTTYPE=image/png:https://whitehart-nettleham.co.uk/wp-content/uploads/2026/04/Disco-Karaoke-2026-05-24-1920-x-1005-px.png
ORGANIZER;CN="The White Hart%2C Nettleham":MAILTO:contact@whitehart-nettleham.co.uk
END:VEVENT
END:VCALENDAR